Workbook
Name ColumnTitle1: [1]!Checklist[[#Headers],[Are the following items included in the payment request packet:]]

Sheet Guidance & Instructions
A1: FRANKLIN COUNTY - ECONOMIC DEVELOPMENT & PLANNING
A2: Monthly Invoice Submission Process - You must submit an invoice request every month. Follow the steps below to determine completion process.
A3: 1. Answer the following question: Do you have allowable expenses to submit for reimbursement?
A4: If you answered "No" to the question above, you are still required to complete & submit the “No Invoice Template” worksheet.
A5: If you answered "Yes" to the question above, you are required to complete & submit the “Invoice Template” and "Submission Checklist" worksheets.
A6: Use the REFERENCE GUIDE below to help assist in completing the Invoice Templates and Submission Checklist worksheets.
A8: 2. Submit all invoice requests to the following email address: FCEDPsubrecipient@franklincountyohio.gov
A9: All invoice requests must be received by the last business day of the month following the month in which services were provided. (Example: 12/1/2025 – 12/31/2025 services must be reported by Friday, January 30, 2026)
A10: If you answered "No" to step 1, email the following documentation:
A11: 1. Completed & signed "No Invoice Template" worksheet
A13: If you answered "Yes" to step 1, email the following documentation:
A14: 1. Completed & signed "Invoice Template" worksheet and "Cover Page", which is automatically populated by the data entered in the Invoice Template
... A53: Proof of Payment (required for both payroll and non-payroll support): Provide a copy of the payroll register, check to vendor, credit card statement, and corresponding proof of payment (cleared check or bank statement showing EFT payment) for all payroll & non-payroll support items listed above.

Sheet Cover Page - EDP USE ONLY
A1: This page is for EDP use only.
C2: All yellow cells should be filled out by the County.
C3: All grey cells populate automatically based on information entered in the “Invoice Template” tab.
A5: ORGANIZATION INFORMATION
A6: Subrecipient Name | D6: =IF('Invoice Template'!$E6="", "", 'Invoice Template'!$E6)
A7: Subrecipient Address | D7: =IF('Invoice Template'!$E7="", "", 'Invoice Template'!$E7)
A8: Subrecipient Phone | D8: =IF('Invoice Template'!$E8="", "", 'Invoice Template'!$E8)
A9: Subrecipient Point of Contact | D9: =IF('Invoice Template'!$E9="", "", 'Invoice Template'!$E9)
A11: DATES OF SERVICE
A12: Date Submitted | C12: =IF('Invoice Template'!$D12="", "", 'Invoice Template'!$D12) | D12: Begin Date - End Date | F12: =IF('Invoice Template'!$F12="", "", 'Invoice Template'!$F12)
A14: CONTRACT INFORMATION
A15: Project Name | C15: =IF('Invoice Template'!$E15="", "", 'Invoice Template'!$E15) | E15: Vendor #
A16: Funding Source | C16: =IF('Invoice Template'!$E16="", "", 'Invoice Template'!$E16) | E16: PO #
A17: Approved Subaward Amount | C17: =IF('Invoice Template'!$E17="", "", 'Invoice Template'!$E17) | E17: Org/Object #
A18: Resolution No. | C18: =IF('Invoice Template'!$E18="", "", 'Invoice Template'!$E18) | E18: Contract #
A19: Resolution No.-Amendment | C19: =IF('Invoice Template'!$E19="", "", 'Invoice Template'!$E19) | E19: IDIS #
A20: PO Number | C20: =IF('Invoice Template'!$E20="", "", 'Invoice Template'!$E20) | E20: Program Approval
A21: Contract Period of Performance | C21: =IF('Invoice Template'!$E21="", "", 'Invoice Template'!$E21)
A22: Period of Performance Extension | C22: =IF('Invoice Template'!$E22="", "", 'Invoice Template'!$E22) | E22: Payment Approval
A23: Restrictions Listed Within Contract | C23: =IF('Invoice Template'!$E23="", "", 'Invoice Template'!$E23) -> Please provide accomplishment reports
A25: TOTAL GRANT EXPENDITURES - BUDGET TO ACTUAL
A26: No. | B26: Reporting Period | C26: Total Prior Expenditures | D26: Total Current Expenditures | E26: Total YTD Expenditures | F26: Approved Budget | G26: Total Unpaid Obligations
A27: =ROW() - ROW($A$27) + 1 -> 1 | B27: =IF('Invoice Template'!$C27="", "", 'Invoice Template'!$C27) | C27: =IF('Invoice Template'!$E27="", "", 'Invoice Template'!$E27) | D27: =IF('Invoice Template'!$F27="", "", 'Invoice Template'!$F27)
A28: =ROW() - ROW($A$27) + 1 -> 2 | B28: =IF('Invoice Template'!$C28="", "", 'Invoice Template'!$C28) | C28: =IF('Invoice Template'!$E28="", "", 'Invoice Template'!$E28) | D28: =IF('Invoice Template'!$F28="", "", 'Invoice Template'!$F28)
A29: =ROW() - ROW($A$27) + 1 -> 3 | B29: =IF('Invoice Template'!$C29="", "", 'Invoice Template'!$C29) | C29: =IF('Invoice Template'!$E29="", "", 'Invoice Template'!$E29) | D29: =IF('Invoice Template'!$F29="", "", 'Invoice Template'!$F29)
A30: =ROW() - ROW($A$27) + 1 -> 4 | B30: =IF('Invoice Template'!$C30="", "", 'Invoice Template'!$C30) | C30: =IF('Invoice Template'!$E30="", "", 'Invoice Template'!$E30) | D30: =IF('Invoice Template'!$F30="", "", 'Invoice Template'!$F30)
A31: =ROW() - ROW($A$27) + 1 -> 5 | B31: =IF('Invoice Template'!$C31="", "", 'Invoice Template'!$C31) | C31: =IF('Invoice Template'!$E31="", "", 'Invoice Template'!$E31) | D31: =IF('Invoice Template'!$F31="", "", 'Invoice Template'!$F31)
A32: =ROW() - ROW($A$27) + 1 -> 6 | B32: =IF('Invoice Template'!$C32="", "", 'Invoice Template'!$C32) | C32: =IF('Invoice Template'!$E32="", "", 'Invoice Template'!$E32) | D32: =IF('Invoice Template'!$F32="", "", 'Invoice Template'!$F32)
A33: =ROW() - ROW($A$27) + 1 -> 7 | B33: =IF('Invoice Template'!$C33="", "", 'Invoice Template'!$C33) | C33: =IF('Invoice Template'!$E33="", "", 'Invoice Template'!$E33) | D33: =IF('Invoice Template'!$F33="", "", 'Invoice Template'!$F33)
A34: =ROW() - ROW($A$27) + 1 -> 8 | B34: =IF('Invoice Template'!$C34="", "", 'Invoice Template'!$C34) | C34: =IF('Invoice Template'!$E34="", "", 'Invoice Template'!$E34) | D34: =IF('Invoice Template'!$F34="", "", 'Invoice Template'!$F34)
A35: =ROW() - ROW($A$27) + 1 -> 9 | B35: =IF('Invoice Template'!$C35="", "", 'Invoice Template'!$C35) | C35: =IF('Invoice Template'!$E35="", "", 'Invoice Template'!$E35) | D35: =IF('Invoice Template'!$F35="", "", 'Invoice Template'!$F35)
A36: =ROW() - ROW($A$27) + 1 -> 10 | B36: =IF('Invoice Template'!$C36="", "", 'Invoice Template'!$C36) | C36: =IF('Invoice Template'!$E36="", "", 'Invoice Template'!$E36) | D36: =IF('Invoice Template'!$F36="", "", 'Invoice Template'!$F36)
A37: =ROW() - ROW($A$27) + 1 -> 11 | B37: =IF('Invoice Template'!$C37="", "", 'Invoice Template'!$C37) | C37: =IF('Invoice Template'!$E37="", "", 'Invoice Template'!$E37) | D37: =IF('Invoice Template'!$F37="", "", 'Invoice Template'!$F37)
A38: =ROW() - ROW($A$27) + 1 -> 12 | B38: =IF('Invoice Template'!$C38="", "", 'Invoice Template'!$C38) | C38: =IF('Invoice Template'!$E38="", "", 'Invoice Template'!$E38) | D38: =IF('Invoice Template'!$F38="", "", 'Invoice Template'!$F38)
A39: TOTAL | C39: =IF('Invoice Template'!E39="", "", 'Invoice Template'!E39) -> 0 | D39: =IF('Invoice Template'!F39="", "", 'Invoice Template'!F39) -> 0 | E39: =IF('Invoice Template'!G39="", "", 'Invoice Template'!G39) -> 0 | F39: =IF('Invoice Template'!H39="", "", 'Invoice Template'!H39) -> 0 | G39: =IF('Invoice Template'!I39="", "", 'Invoice Template'!I39) -> 0
A41: SUMMARY OF REIMBURSEMENT REQUESTED
A42: No. | B42: Budget Line Item | D42: Current Expenditures
A43: =ROW() - ROW($A$43) + 1 -> 1 | B43: =IF('Invoice Template'!$E43="", "", 'Invoice Template'!$E43) | D43: ='Invoice Template'!E55 -> 0
A44: =ROW() - ROW($A$43) + 1 -> 2 | B44: =IF('Invoice Template'!$E58="", "", 'Invoice Template'!$E58) | D44: ='Invoice Template'!E70 -> 0
A45: =ROW() - ROW($A$43) + 1 -> 3 | B45: =IF('Invoice Template'!$E73="", "", 'Invoice Template'!$E73) | D45: ='Invoice Template'!E85 -> 0
...

Sheet Submission Checklist
A1: SUBRECIPIENT SUBMISSION CHECKLIST
A2: Respond to Items 1-5 below, initial and provide contact information at the bottom of the checklist
A4: Task to Complete | B4: Yes/No | C4: Initials
A5: 1. Completed & signed "Invoice Template" or "No Invoice Template" worksheet
A6: a. All cream colored cells are complete.
A7: b. Signed and dated by two staff members.
A8: 2. Invoice support for all payroll and/or non-payroll expenses
A9: a. All invoice supporting documents match invoice detail amounts provided on "Invoice Template" worksheet.
A10: b. If invoice supporting document is more than amount listed on "Invoice Template" worksheet, is an explanation provided?
A11: 3. Proof of payment for all payroll and/or non-payroll payments
A12: a. All proof of payments match invoice supporting documentation provided above.
A13: 4. Does your contract have restrictions (i.e.: limited to for specific areas, certain demographic populations, annual limits, etc.)
A14: a. If yes, accomplishment reports are required.
A15: 5. Does your invoice request include payments made to other agencies as pass through payments?
A16: a. If yes, have you provided Invoice support for all payroll and/or non-payroll expenses?
... A19: a. All blank fields are complete.
A23: Prepared By (print name & title) | C23: Date
A26: Email Address | C26: Phone

Sheet Invoice Template
E3: All yellow cells should be filled out by the subrecipient.
B5: ORGANIZATION INFORMATION | H5: I attest to the accuracy of the information documented. [INSERT SUBRECIPIENT NAME], has requested reimbursement for all expenses within the Dates of Service mentioned above and will not be eligible for reimbursements for this period of time in future months. All supporting documentation and proof of payment for services listed within this invoice has been provided including pass through subrecipient services, if applicable. This invoice request fulfills Franklin County's requirement for monthly invoice submission. By signing this report, I certify to the best of my knowledge and belief that the report is true, complete and accurate, and the expenditures, disbursements and cash receipts are for the purposes and objectives set forth in the terms and conditions of the federal award. I am aware that any false, fictitious or fraudulent information, or the omission of any material fact, may subject me to criminal, civil or administrative penalties for fraud, false statements, false claims or otherwise.
B6: Subrecipient Name
B7: Subrecipient Address
B8: Subrecipient Phone
B9: Subrecipient Point of Contact
B11: DATES OF SERVICE
B12: Date Submitted | E12: Begin Date - End Date
B14: CONTRACT INFORMATION
B15: Project Name
B16: Funding Source
B17: Approved Subaward Amount
B18: Resolution No. | H18: Prepared By | M18: Date
B19: Resolution No.-Amendment
B20: PO Number
B21: Contract Period of Performance | H21: Approved By | M21: Date
B22: Period of Performance Extension
B23: Restrictions listed within contract | E23: Please provide accomplishment reports
B25: TOTAL GRANT EXPENDITURES - BUDGET TO ACTUAL
B26: No. | C26: Reporting Period | E26: Total Prior Expenditures | F26: Total Current Expenditures | G26: Total YTD Expenditures | H26: Approved Subaward | I26: Total Unpaid Obligations
B27: =ROW() - ROW($B$27) + 1 -> 1
B28: =ROW() - ROW($B$27) + 1 -> 2
B29: =ROW() - ROW($B$27) + 1 -> 3
B30: =ROW() - ROW($B$27) + 1 -> 4
B31: =ROW() - ROW($B$27) + 1 -> 5
B32: =ROW() - ROW($B$27) + 1 -> 6
B33: =ROW() - ROW($B$27) + 1 -> 7
B34: =ROW() - ROW($B$27) + 1 -> 8
B35: =ROW() - ROW($B$27) + 1 -> 9
B36: =ROW() - ROW($B$27) + 1 -> 10
B37: =ROW() - ROW($B$27) + 1 -> 11
B38: =ROW() - ROW($B$27) + 1 -> 12
B39: TOTAL | E39: =SUM(E27:E38) -> 0 | F39: =SUM(F27:F38) -> 0 | G39: =SUM(E39:F39) -> 0 | H39: =E17 -> 0 | I39: =H39-G39 -> 0
B42: BUDGET LINE ITEM #1 REQUESTED REIMBURSEMENT
B43: Budget Line Description:
B44: No. | C44: Description | E44: Individual Expenditure | F44: Reference Tab or Document | G44: Page Number
B45: =ROW() - ROW($B$45) + 1 -> 1
B46: =ROW() - ROW($B$45) + 1 -> 2
B47: =ROW() - ROW($B$45) + 1 -> 3
B48: =ROW() - ROW($B$45) + 1 -> 4
...

Sheet No Invoice Template
C1: All yellow cells should be filled out by the subrecipient.
A3: ORGANIZATION INFORMATION
A4: Subrecipient Name
A5: Subrecipient Address
A6: Subrecipient Phone
A7: Subrecipient Point of Contact
A9: DATES OF SERVICE
A10: Date Submitted | C10: Begin Date - End Date
A12: CONTRACT INFORMATION
A13: Project Name
A14: Funding Source
A15: Approved Subaward Amount
A16: Resolution No.
A17: Resolution No.-Amendment
A18: PO Number
A19: Contract Period of Performance
A20: Period of Performance Extension
A21: Restrictions listed within contract
A23: TOTAL GRANT EXPENDITURES - BUDGET TO ACTUAL
A24: No. | B24: Reporting Period | C24: Total Prior Expenditures | D24: Total Current Expenditures | E24: Total YTD Expenditures | F24: Approved Subaward | G24: Total Unpaid Obligations
A25: =ROW() - ROW($A$25) + 1 -> 1
A26: =ROW() - ROW($A$25) + 1 -> 2
A27: =ROW() - ROW($A$25) + 1 -> 3
A28: =ROW() - ROW($A$25) + 1 -> 4
A29: =ROW() - ROW($A$25) + 1 -> 5
A30: =ROW() - ROW($A$25) + 1 -> 6
A31: =ROW() - ROW($A$25) + 1 -> 7
A32: =ROW() - ROW($A$25) + 1 -> 8
A33: =ROW() - ROW($A$25) + 1 -> 9
A34: =ROW() - ROW($A$25) + 1 -> 10
A35: =ROW() - ROW($A$25) + 1 -> 11
A36: =ROW() - ROW($A$25) + 1 -> 12
A37: TOTAL | C37: =SUM(C25:C36) -> 0 | D37: =SUM(D25:D36) -> 0 | E37: =SUM(C37:D37) -> 0 | F37: =C15 -> 0 | G37: =F37-E37 -> 0
A39: During the Dates of Service listed above, I confirm that (insert subrecipient name here) did not have allowable expensed related to the contract mentioned above. Insert subrecipient name here, will not be eligible for reimbursements for this period of time in future months. This invoice request fulfills Franklin County's requirement for monthly invoice submission. By signing this report, I certify to the best of my knowledge and belief that the report is true, complete and accurate, and the expenditures, disbursements and cash receipts are for the purposes and objectives set forth in the terms and conditions of the federal award. I am aware that any false, fictitious or fraudulent information, or the omission of any material fact, may subject me to criminal, civil or administrative penalties for fraud, false statements, false claims or otherwise.
A42: Prepared By | D42: Date
A46: Approved By | D46: Date

Sheet OTHER SAMPLE TEMPLATES --->

Sheet Budget Amendment
D1: All shaded cells should be filled out
A3: BUDGET AMENDMENT REQUEST
A4: Date of Request
A5: Subrecipient Name & Address
A6: Subrecipient Phone
A7: Subrecipient Point of Contact
A9: Request Submitted To:
B10: Franklin County Economic Development & Planning
B11: 150 S. Front St. Suite 10
B12: Columbus, Ohio 43215
B13: E-mail Address: FCEDPsubrecipient@franklincountyohio.gov or through Euna Grants if using the County's grants management system.
A15: Project Name
A16: Funding Source
A17: Contract Period of Performance
A19: Please consider the following budget amendments for the above mentioned Project. The subrecipient needs to provide the appropriate item based on their approved budget. Examples of budget line items may include: Salaries, Fringe Benefits, Office Space, Utilities, Supplies/Materials, Communications, Administration, Mileage, Transportation, Audit, and others. The examples listed above may not align with each subrecipient's approved budget. Only list Budget Items from your original approved budget and only add a budget item if requesting a new item not previously approved with the budget.
A20: BUDGET LINE ITEM | D20: APPROVED BUDGET | E20: AMENDMENT REQUESTED | F20: REVISED BUDGET
A31: TOTAL | D31: =SUM(D21:D30) -> 0 | E31: =SUM(E21:E30) -> 0 | F31: =SUM(F21:F30) -> 0
A33: The following narrative corresponds to the above revision request by category:
A37: Authorized Signature Required | F37: Date

Sheet Grant Timesheet
B1: Make sure to update the pay rate @ bottom to reflect current rate
A3: Employee Name & Title:
A5: Pay Period Date Range:
A7: Grant Timesheet Log
A8: Date of Service | B8: Time In | C8: Time Out | D8: Description of Activity | E8: Total Hours
D31: TOTAL HOURS | E31: =SUM(E9:E30) -> 0
D32: Pay Rate
A33: Gross Pay | E33: =E31*E32 -> 0
A34: Other (Specify)
A36: Employee Signature & Date:
A39: Supervisor Signature & Date:
A42: The information above documents the date, activity, number of hours, and hourly rate for time worked on the specified grant during one payroll period. This documentation must correspond with the agency’s payroll records for the individual named. This report, for each pay period, must be submitted to EDP with the corresponding payroll supporting documentation.

Sheet Mileage Log
B1: Make sure to update the mileage rate @ bottom to reflect current rate
A3: Name & Title:
A5: Mileage Expense Report
A6: Date | B6: Starting Location/Address | C6: Ending Location/Address | D6: Purpose | E6: # of Miles
A34: TOTAL # OF MILES | E34: =SUM(E7:E33) -> 0
A35: MILEAGE RATE
A36: NET REIMBURSEMENT | E36: =E34*E35 -> 0

Sheet Contractor Hours Log
A1: Contractor Name:
A3: Project Name:
A5: Contractor Grant Hours Log
A6: Date of Service | B6: Time In | C6: Time Out | D6: Description of Activity | E6: Total Hours
D29: TOTAL | E29: =SUM(E7:E28) -> 0
